BEGIN:VCALENDAR
VERSION:2.0
PRODID:-//Complete Learning Solutions - ECPv6.15.11//NONSGML v1.0//EN
CALSCALE:GREGORIAN
METHOD:PUBLISH
X-WR-CALNAME:Complete Learning Solutions
X-ORIGINAL-URL:https://www.completelearningsolutions.com
X-WR-CALDESC:Events for Complete Learning Solutions
REFRESH-INTERVAL;VALUE=DURATION:PT1H
X-Robots-Tag:noindex
X-PUBLISHED-TTL:PT1H
BEGIN:VTIMEZONE
TZID:Pacific/Auckland
BEGIN:STANDARD
TZOFFSETFROM:+1300
TZOFFSETTO:+1200
TZNAME:NZST
DTSTART:20250405T140000
END:STANDARD
BEGIN:DAYLIGHT
TZOFFSETFROM:+1200
TZOFFSETTO:+1300
TZNAME:NZDT
DTSTART:20250927T140000
END:DAYLIGHT
BEGIN:STANDARD
TZOFFSETFROM:+1300
TZOFFSETTO:+1200
TZNAME:NZST
DTSTART:20260404T140000
END:STANDARD
BEGIN:DAYLIGHT
TZOFFSETFROM:+1200
TZOFFSETTO:+1300
TZNAME:NZDT
DTSTART:20260926T140000
END:DAYLIGHT
BEGIN:STANDARD
TZOFFSETFROM:+1300
TZOFFSETTO:+1200
TZNAME:NZST
DTSTART:20270403T140000
END:STANDARD
BEGIN:DAYLIGHT
TZOFFSETFROM:+1200
TZOFFSETTO:+1300
TZNAME:NZDT
DTSTART:20270925T140000
END:DAYLIGHT
END:VTIMEZONE
BEGIN:VEVENT
DTSTART;TZID=Pacific/Auckland:20260630T080000
DTEND;TZID=Pacific/Auckland:20260701T170000
DTSTAMP:20260421T214801
CREATED:20250928T015506Z
LAST-MODIFIED:20250928T015506Z
UID:10000142-1782806400-1782925200@www.completelearningsolutions.com
SUMMARY:2026 HR+L&D INNOVATION & TECH FEST - SAVE THE DATES!
DESCRIPTION:THE FUTURE OF WORK\nL&D Innovation & Tech Fest will once again run alongside HR Innovation & Tech Fest\, the fastest growing and most vibrant combined HR and L&D event in APAC. \nCheck the conference information here. \n 
URL:https://www.completelearningsolutions.com/event/2026-hrld-innovation-tech-fest-save-the-dates/
LOCATION:Cordis\, Auckland\, 83 Symonds Street\, Auckland\, 1010
CATEGORIES:Conferences,Public
END:VEVENT
END:VCALENDAR